BEGIN:VCALENDAR
VERSION:2.0
PRODID:-//Ascot Kindergarten - ECPv4.8.0.1//NONSGML v1.0//EN
CALSCALE:GREGORIAN
METHOD:PUBLISH
X-WR-CALNAME:Ascot Kindergarten
X-ORIGINAL-URL:http://www.ascotkindergarten.vic.edu.au
X-WR-CALDESC:Events for Ascot Kindergarten
BEGIN:VEVENT
DTSTART;TZID=UTC+10:20180724T190000
DTEND;TZID=UTC+10:20180724T203000
DTSTAMP:20190228T125015
CREATED:20180717T093421Z
LAST-MODIFIED:20180717T113010Z
UID:680-1532458800-1532464200@www.ascotkindergarten.vic.edu.au
SUMMARY:Starting your Child's journey into prep
DESCRIPTION:Starting your child’s journey into prep flyer \nOur guest speakers will be a principal and vice principal from a local primary school\, a prep teacher from a different local primary school and an occupational therapist. Our teachers\, Heather and Kirsty\, will also be sharing their knowledge of how you are able to assist your child’s learning journey from the commencement in a kindergarten program to entry into prep. \nThis discussion is for anyone you know that may have a child thinking about going into a 3 year old program in coming years\, or a child currently enrolled in a 3 or 4 year old program in any service. \nYou are invited to bring a friend/friends with you to join in the discussion. This is an open invitation and not just for the Ascot Kindergarten community. Please feel free to share the date and information with friends and your local playgroup \nTime: 7pm \nWhere: Ascot Kindergarten\, 1 West St\, Ascot Vale \nPlease R.S.V.P to ascot.kin.admin@kindergarten.vic.gov.au by Friday 20th July \nPlease call 93753548 if you require further details \n  \n
URL:http://www.ascotkindergarten.vic.edu.au/?tribe_events=starting-your-childs-journey-into-prep
CATEGORIES:Information Session
END:VEVENT
END:VCALENDAR